BEGIN:VCALENDAR
VERSION:2.0
PRODID:-//Washington Homeownership Resource Center - ECPv6.15.17.1//NONSGML v1.0//EN
CALSCALE:GREGORIAN
METHOD:PUBLISH
X-WR-CALNAME:Washington Homeownership Resource Center
X-ORIGINAL-URL:https://www.homeownership-wa.org/de
X-WR-CALDESC:Veranstaltungen für Washington Homeownership Resource Center
REFRESH-INTERVAL;VALUE=DURATION:PT1H
X-Robots-Tag:noindex
X-PUBLISHED-TTL:PT1H
BEGIN:VTIMEZONE
TZID:America/Los_Angeles
BEGIN:DAYLIGHT
TZOFFSETFROM:-0800
TZOFFSETTO:-0700
TZNAME:PDT
DTSTART:20250309T100000
END:DAYLIGHT
BEGIN:STANDARD
TZOFFSETFROM:-0700
TZOFFSETTO:-0800
TZNAME:PST
DTSTART:20251102T090000
END:STANDARD
BEGIN:DAYLIGHT
TZOFFSETFROM:-0800
TZOFFSETTO:-0700
TZNAME:PDT
DTSTART:20260308T100000
END:DAYLIGHT
BEGIN:STANDARD
TZOFFSETFROM:-0700
TZOFFSETTO:-0800
TZNAME:PST
DTSTART:20261101T090000
END:STANDARD
BEGIN:DAYLIGHT
TZOFFSETFROM:-0800
TZOFFSETTO:-0700
TZNAME:PDT
DTSTART:20270314T100000
END:DAYLIGHT
BEGIN:STANDARD
TZOFFSETFROM:-0700
TZOFFSETTO:-0800
TZNAME:PST
DTSTART:20271107T090000
END:STANDARD
END:VTIMEZONE
BEGIN:VEVENT
DTSTART;TZID=America/Los_Angeles:20260423T173000
DTEND;TZID=America/Los_Angeles:20260423T183000
DTSTAMP:20260423T091107
CREATED:20260219T205732Z
LAST-MODIFIED:20260224T213851Z
UID:10000669-1776965400-1776969000@www.homeownership-wa.org
SUMMARY:Homebuyer Info Session (English)
DESCRIPTION:Join us for an informative session where we’ll explore the homeownership process\, available resources\, and support systems to help you on your journey. Learn about down payment assistance programs\, different homeownership models\, and key steps to achieving homeownership. Whether you’re a first-time buyer or looking for guidance\, this session will provide valuable insights to help you navigate the path to homeownership with confidence. \nREGISTER HERE
URL:https://www.homeownership-wa.org/de/event/homebuyer-info-session-english-2/2026-04-23/
CATEGORIES:English,Homebuyer,Virtual
ATTACH;FMTTYPE=image/jpeg:https://www.homeownership-wa.org/wp-content/uploads/2024/07/WHRC_STANDARD-LICENCE_AdobeStock_251506407-1-scaled.jpeg
ORGANIZER;CN="WHRC":MAILTO:communications@homeownership-wa.org
LOCATION:https://www.homeownership-wa.org/de/event/homebuyer-info-session-english-2/2026-04-23/
END:VEVENT
END:VCALENDAR