BEGIN:VCALENDAR
VERSION:2.0
PRODID:-//Washington Homeownership Resource Center - ECPv6.15.17.1//NONSGML v1.0//EN
CALSCALE:GREGORIAN
METHOD:PUBLISH
X-ORIGINAL-URL:https://www.homeownership-wa.org
X-WR-CALDESC:Events for Washington Homeownership Resource Center
REFRESH-INTERVAL;VALUE=DURATION:PT1H
X-Robots-Tag:noindex
X-PUBLISHED-TTL:PT1H
BEGIN:VTIMEZONE
TZID:America/Los_Angeles
BEGIN:DAYLIGHT
TZOFFSETFROM:-0800
TZOFFSETTO:-0700
TZNAME:PDT
DTSTART:20250309T100000
END:DAYLIGHT
BEGIN:STANDARD
TZOFFSETFROM:-0700
TZOFFSETTO:-0800
TZNAME:PST
DTSTART:20251102T090000
END:STANDARD
BEGIN:DAYLIGHT
TZOFFSETFROM:-0800
TZOFFSETTO:-0700
TZNAME:PDT
DTSTART:20260308T100000
END:DAYLIGHT
BEGIN:STANDARD
TZOFFSETFROM:-0700
TZOFFSETTO:-0800
TZNAME:PST
DTSTART:20261101T090000
END:STANDARD
BEGIN:DAYLIGHT
TZOFFSETFROM:-0800
TZOFFSETTO:-0700
TZNAME:PDT
DTSTART:20270314T100000
END:DAYLIGHT
BEGIN:STANDARD
TZOFFSETFROM:-0700
TZOFFSETTO:-0800
TZNAME:PST
DTSTART:20271107T090000
END:STANDARD
END:VTIMEZONE
BEGIN:VEVENT
DTSTART;TZID=America/Los_Angeles:20260519T120000
DTEND;TZID=America/Los_Angeles:20260519T130000
DTSTAMP:20260422T113316
CREATED:20251209T053446Z
LAST-MODIFIED:20260220T215105Z
UID:10000661-1779192000-1779195600@www.homeownership-wa.org
SUMMARY:Sesión Informativa Sobre la Propiedad de Vivienda
DESCRIPTION:Acompáñenos en una sesión informativa donde exploraremos el proceso de compra de vivienda\, los recursos disponibles y los sistemas de apoyo para ayudarle en su proceso. Conozca los programas de asistencia para el pago inicial\, los diferentes modelos de compra de vivienda y los pasos clave para lograrlo. Así sea su primera compra o busque orientación\, esta sesión le brindará información valiosa para ayudarle a navegar el camino hacia la propiedad de vivienda con confianza. \nRegístrese Hoy
URL:https://www.homeownership-wa.org/event/sesion-informativa-sobre-la-propiedad-de-vivienda-2/2026-05-19/
LOCATION:https://www.homeownership-wa.org/event/sesion-informativa-sobre-la-propiedad-de-vivienda-2/2026-05-19/
CATEGORIES:Spanish
ATTACH;FMTTYPE=image/jpeg:https://www.homeownership-wa.org/wp-content/uploads/2025/03/homebuyer_event_img_espanol.jpg
ORGANIZER;CN="WHRC":MAILTO:communications@homeownership-wa.org
END:VEVENT
END:VCALENDAR