BEGIN:VCALENDAR
VERSION:2.0
PRODID:-//Washington Homeownership Resource Center - ECPv6.15.17.1//NONSGML v1.0//EN
CALSCALE:GREGORIAN
METHOD:PUBLISH
X-ORIGINAL-URL:https://www.homeownership-wa.org/ku
X-WR-CALDESC:Events for Washington Homeownership Resource Center
REFRESH-INTERVAL;VALUE=DURATION:PT1H
X-Robots-Tag:noindex
X-PUBLISHED-TTL:PT1H
BEGIN:VTIMEZONE
TZID:America/Los_Angeles
BEGIN:DAYLIGHT
TZOFFSETFROM:-0800
TZOFFSETTO:-0700
TZNAME:PDT
DTSTART:20250309T100000
END:DAYLIGHT
BEGIN:STANDARD
TZOFFSETFROM:-0700
TZOFFSETTO:-0800
TZNAME:PST
DTSTART:20251102T090000
END:STANDARD
BEGIN:DAYLIGHT
TZOFFSETFROM:-0800
TZOFFSETTO:-0700
TZNAME:PDT
DTSTART:20260308T100000
END:DAYLIGHT
BEGIN:STANDARD
TZOFFSETFROM:-0700
TZOFFSETTO:-0800
TZNAME:PST
DTSTART:20261101T090000
END:STANDARD
BEGIN:DAYLIGHT
TZOFFSETFROM:-0800
TZOFFSETTO:-0700
TZNAME:PDT
DTSTART:20270314T100000
END:DAYLIGHT
BEGIN:STANDARD
TZOFFSETFROM:-0700
TZOFFSETTO:-0800
TZNAME:PST
DTSTART:20271107T090000
END:STANDARD
END:VTIMEZONE
BEGIN:VEVENT
DTSTART;TZID=America/Los_Angeles:20260303T120000
DTEND;TZID=America/Los_Angeles:20260303T130000
DTSTAMP:20260425T083053
CREATED:20260219T205732Z
LAST-MODIFIED:20260425T005642Z
UID:10000662-1772539200-1772542800@www.homeownership-wa.org
SUMMARY:Homebuyer Info Session (English)
DESCRIPTION:Join us for an informative session where we’ll explore the homeownership process\, available resources\, and support systems to help you on your journey. Learn about down payment assistance programs\, different homeownership models\, and key steps to achieving homeownership. Whether you’re a first-time buyer or looking for guidance\, this session will provide valuable insights to help you navigate the path to homeownership with confidence. \nREGISTER HERE
URL:https://www.homeownership-wa.org/ku/event/homebuyer-info-session-english-2/2026-03-03/
CATEGORIES:English,Homebuyer,Virtual
ATTACH;FMTTYPE=image/jpeg:https://www.homeownership-wa.org/wp-content/uploads/2024/07/WHRC_STANDARD-LICENCE_AdobeStock_251506407-1-scaled.jpeg
ORGANIZER;CN="WHRC":MAILTO:communications@homeownership-wa.org
LOCATION:https://www.homeownership-wa.org/ku/event/homebuyer-info-session-english-2/2026-03-03/
END:VEVENT
BEGIN:VEVENT
DTSTART;TZID=America/Los_Angeles:20260305T110000
DTEND;TZID=America/Los_Angeles:20260305T113000
DTSTAMP:20260425T083053
CREATED:20250703T152825Z
LAST-MODIFIED:20260425T005427Z
UID:10000666-1772708400-1772710200@www.homeownership-wa.org
SUMMARY:Partnership Information Session
DESCRIPTION:WHRC is deeply committed to increasing equitable access to homeownership as part of the Black Home Initiative partnership and throughout our statewide footprint. \nTo better serve homebuyers and homeowners statewide\, WHRC is making changes to our intake and referral processes and tools with a special focus on our referral partnerships. As part of a broad strategy\, we have made the following changes: \n• Revised our partner agreements that reflect shared values around equitable access to homeownership. \n• Launched a robust vetting process to ensure only those service providers deeply committed to equity will receive referrals. \n• Added lending and realty professionals to our network of referral partners. \n• Made available an anti-racism and trauma-informed training for all partners to ensure they have the knowledge and skills to provide all clients with the best service possible. \nIf you would like to learn more about our new partner engagement process\, please register for one of our information sessions.
URL:https://www.homeownership-wa.org/ku/event/whrc-referral-partner-information-session/2026-03-05/
CATEGORIES:For Partners
ATTACH;FMTTYPE=image/jpeg:https://www.homeownership-wa.org/wp-content/uploads/2025/05/WHRC_STANDARD_LICENSE_AdobeStock_673802193-scaled.jpeg
ORGANIZER;CN="WHRC":MAILTO:communications@homeownership-wa.org
LOCATION:https://us06web.zoom.us/meeting/register/tZArcOCqrjsoHNGDa71PJ-Amm5sqnjhlhzqy#/registration
END:VEVENT
BEGIN:VEVENT
DTSTART;TZID=America/Los_Angeles:20260310T120000
DTEND;TZID=America/Los_Angeles:20260310T130000
DTSTAMP:20260425T083053
CREATED:20251209T053446Z
LAST-MODIFIED:20260425T005120Z
UID:10000659-1773144000-1773147600@www.homeownership-wa.org
SUMMARY:Sesión Informativa Sobre la Propiedad de Vivienda
DESCRIPTION:Acompáñenos en una sesión informativa donde exploraremos el proceso de compra de vivienda\, los recursos disponibles y los sistemas de apoyo para ayudarle en su proceso. Conozca los programas de asistencia para el pago inicial\, los diferentes modelos de compra de vivienda y los pasos clave para lograrlo. Así sea su primera compra o busque orientación\, esta sesión le brindará información valiosa para ayudarle a navegar el camino hacia la propiedad de vivienda con confianza. \nRegístrese Hoy
URL:https://www.homeownership-wa.org/ku/event/sesion-informativa-sobre-la-propiedad-de-vivienda-2/2026-03-10/
CATEGORIES:Spanish
ATTACH;FMTTYPE=image/jpeg:https://www.homeownership-wa.org/wp-content/uploads/2025/03/homebuyer_event_img_espanol.jpg
ORGANIZER;CN="WHRC":MAILTO:communications@homeownership-wa.org
LOCATION:https://www.homeownership-wa.org/ku/event/sesion-informativa-sobre-la-propiedad-de-vivienda-2/2026-03-10/
END:VEVENT
BEGIN:VEVENT
DTSTART;TZID=America/Los_Angeles:20260318T120000
DTEND;TZID=America/Los_Angeles:20260318T130000
DTSTAMP:20260425T083053
CREATED:20260219T205732Z
LAST-MODIFIED:20260425T005642Z
UID:10000663-1773835200-1773838800@www.homeownership-wa.org
SUMMARY:Homebuyer Info Session (English)
DESCRIPTION:Join us for an informative session where we’ll explore the homeownership process\, available resources\, and support systems to help you on your journey. Learn about down payment assistance programs\, different homeownership models\, and key steps to achieving homeownership. Whether you’re a first-time buyer or looking for guidance\, this session will provide valuable insights to help you navigate the path to homeownership with confidence. \nREGISTER HERE
URL:https://www.homeownership-wa.org/ku/event/homebuyer-info-session-english-2/2026-03-18/
CATEGORIES:English,Homebuyer,Virtual
ATTACH;FMTTYPE=image/jpeg:https://www.homeownership-wa.org/wp-content/uploads/2024/07/WHRC_STANDARD-LICENCE_AdobeStock_251506407-1-scaled.jpeg
ORGANIZER;CN="WHRC":MAILTO:communications@homeownership-wa.org
LOCATION:https://www.homeownership-wa.org/ku/event/homebuyer-info-session-english-2/2026-03-18/
END:VEVENT
BEGIN:VEVENT
DTSTART;TZID=America/Los_Angeles:20260319T110000
DTEND;TZID=America/Los_Angeles:20260319T113000
DTSTAMP:20260425T083053
CREATED:20250703T152825Z
LAST-MODIFIED:20260425T005427Z
UID:10000667-1773918000-1773919800@www.homeownership-wa.org
SUMMARY:Partnership Information Session
DESCRIPTION:WHRC is deeply committed to increasing equitable access to homeownership as part of the Black Home Initiative partnership and throughout our statewide footprint. \nTo better serve homebuyers and homeowners statewide\, WHRC is making changes to our intake and referral processes and tools with a special focus on our referral partnerships. As part of a broad strategy\, we have made the following changes: \n• Revised our partner agreements that reflect shared values around equitable access to homeownership. \n• Launched a robust vetting process to ensure only those service providers deeply committed to equity will receive referrals. \n• Added lending and realty professionals to our network of referral partners. \n• Made available an anti-racism and trauma-informed training for all partners to ensure they have the knowledge and skills to provide all clients with the best service possible. \nIf you would like to learn more about our new partner engagement process\, please register for one of our information sessions.
URL:https://www.homeownership-wa.org/ku/event/whrc-referral-partner-information-session/2026-03-19/
CATEGORIES:For Partners
ATTACH;FMTTYPE=image/jpeg:https://www.homeownership-wa.org/wp-content/uploads/2025/05/WHRC_STANDARD_LICENSE_AdobeStock_673802193-scaled.jpeg
ORGANIZER;CN="WHRC":MAILTO:communications@homeownership-wa.org
LOCATION:https://us06web.zoom.us/meeting/register/tZArcOCqrjsoHNGDa71PJ-Amm5sqnjhlhzqy#/registration
END:VEVENT
BEGIN:VEVENT
DTSTART;TZID=America/Los_Angeles:20260323T163000
DTEND;TZID=America/Los_Angeles:20260323T173000
DTSTAMP:20260425T083053
CREATED:20260320T184932Z
LAST-MODIFIED:20260320T184932Z
UID:10000677-1774283400-1774287000@www.homeownership-wa.org
SUMMARY:Chase x Parkview Services Post Delinquent Workshop
DESCRIPTION:Learn about ways to improve your credit\, explore effective ways to manage debt and more! \nPlease RSVP by March 23rd at: https://events.chase.com/ereg/newreg.php?eventid=300079639
URL:https://www.homeownership-wa.org/ku/event/chase-x-parkview-services-post-delinquent-workshop/
CATEGORIES:English,Free or low-cost to attend,Homebuyer,Homeowner,Nonprofit Partner Event,Virtual
ATTACH;FMTTYPE=image/jpeg:https://www.homeownership-wa.org/wp-content/uploads/2025/05/WHRC_STANDARD_LICENSE_iStock-1705486868-scaled.jpg
ORGANIZER;CN="WHRC":MAILTO:communications@homeownership-wa.org
LOCATION:https://www.homeownership-wa.org/ku/event/chase-x-parkview-services-post-delinquent-workshop/
END:VEVENT
BEGIN:VEVENT
DTSTART;TZID=America/Los_Angeles:20260326T180000
DTEND;TZID=America/Los_Angeles:20260326T190000
DTSTAMP:20260425T083053
CREATED:20260326T195456Z
LAST-MODIFIED:20260326T195456Z
UID:10000682-1774548000-1774551600@www.homeownership-wa.org
SUMMARY:Power Hour session
DESCRIPTION:Join the Black Legacy Homeowners Team for a dedicated Power Hour session! We look forward to seeing you there and continuing to build our community’s wealth\, one home at a time! In Community\, The Black Legacy Homeowners Team
URL:https://www.homeownership-wa.org/ku/event/power-hour-session/
CATEGORIES:English,Homeowner,Virtual
ATTACH;FMTTYPE=image/png:https://www.homeownership-wa.org/wp-content/uploads/2025/06/BHI-Lunch-Learn-Image.png
ORGANIZER;CN="WHRC":MAILTO:communications@homeownership-wa.org
LOCATION:https://www.homeownership-wa.org/ku/event/power-hour-session/
END:VEVENT
BEGIN:VEVENT
DTSTART;TZID=America/Los_Angeles:20260328T100000
DTEND;TZID=America/Los_Angeles:20260328T153000
DTSTAMP:20260425T083053
CREATED:20260320T192717Z
LAST-MODIFIED:20260320T200934Z
UID:10000679-1774692000-1774711800@www.homeownership-wa.org
SUMMARY:Seminario gratuito para compradores de vivienda | Free First-Time Homebuyer Seminar (Spanish)
DESCRIPTION:Detalles del seminario \nFecha: Sábado\, 28 de marzo de 2026\nHorario: 10:00 AM – 3:30 PM\nUbicación: El Centro de la Raza\n2524 16th Avenue South\nSeattle\, WA 98144 \nDurante este seminario los participantes aprenderán sobre: \n• Cómo obtener una preaprobación hipotecaria\n• Cómo prepararse financieramente para comprar casa\n• Cómo encontrar un prestamista y un agente inmobiliario\n• Qué considerar al buscar su primera vivienda\n• La importancia de la inspección de vivienda\n• Cómo planificar a largo plazo como propietario \nEl seminario es gratuito y se ofrecerá en español. Invitamos a todas las personas interesadas en comprar casa ahora o en el futuro a participar. \nPara registrarse o recibir más información\, pueden comunicarse con: \nJanet Savalza\nEl Centro de la Raza – Business Opportunity Center\nEmail: jtgarcias@elcentrodelaraza.org\nTeléfono: 206-671-8860 \n\nPor favor\, use este enlace para registrarse en el Seminario para Compradores de Casa: First Homebuyer Class Registration / Registración de clase para primeros compradores de casa \n\n— \nSeminar Details \nDate: Saturday\, March 28\, 2026\nTime: 10:00 AM – 3:30 PM\nLocation: El Centro de la Raza\n2524 16th Avenue South\nSeattle\, WA 98144 \nDuring this seminar participants will learn about: \n• How to obtain a mortgage pre-approval\n• How to prepare financially to purchase a home\n• How to find a lender and a real estate agent\n• What to consider when searching for your first home\n• The importance of home inspections\n• How to plan for the future as a homeowner \nThe seminar is free and will be presented in Spanish. We encourage anyone interested in purchasing a home now or in the future to attend. Participants do receive a 2-year certificate and allows them to access commission based programs. \n\nPlease use this link to register for the Homebuyer Seminar: First Homebuyer Class Registration / Registración de clase para primeros compradores de casa \n\n\n  \n\n\n 
URL:https://www.homeownership-wa.org/ku/event/2165/
LOCATION:El Centro de la Raza\, 2524 16th Ave. South\, Seattle\, WA\, 98144
CATEGORIES:Free or low-cost to attend,Homebuyer,In-Person,Nonprofit Partner Event,Open to the public,Spanish
END:VEVENT
BEGIN:VEVENT
DTSTART;TZID=America/Los_Angeles:20260328T110000
DTEND;TZID=America/Los_Angeles:20260329T130000
DTSTAMP:20260425T083053
CREATED:20260326T202926Z
LAST-MODIFIED:20260326T202926Z
UID:10000691-1774695600-1774789200@www.homeownership-wa.org
SUMMARY:Covenant Homeownership Panel Discussion
DESCRIPTION:Overview of Covenant Homeownership Program with a Panel Discussion. \nFor additional information contact: (206) 573-3367
URL:https://www.homeownership-wa.org/ku/event/covenant-homeownership-panel-discussion/
LOCATION:New Beginnings Christian Fellowship\, 19300 108th Ave SE\, Kent\, WA\, 98031\, United States
CATEGORIES:English,In-Person,Virtual
ATTACH;FMTTYPE=image/jpeg:https://www.homeownership-wa.org/wp-content/uploads/2026/03/Covenant-HO-Program-New-Beginnings-March-1-scaled.jpg
END:VEVENT
END:VCALENDAR