BEGIN:VCALENDAR
VERSION:2.0
PRODID:-//Washington Homeownership Resource Center - ECPv6.15.17.1//NONSGML v1.0//EN
CALSCALE:GREGORIAN
METHOD:PUBLISH
X-ORIGINAL-URL:https://www.homeownership-wa.org/ne
X-WR-CALDESC:Events for Washington Homeownership Resource Center
REFRESH-INTERVAL;VALUE=DURATION:PT1H
X-Robots-Tag:noindex
X-PUBLISHED-TTL:PT1H
BEGIN:VTIMEZONE
TZID:America/Los_Angeles
BEGIN:DAYLIGHT
TZOFFSETFROM:-0800
TZOFFSETTO:-0700
TZNAME:PDT
DTSTART:20240310T100000
END:DAYLIGHT
BEGIN:STANDARD
TZOFFSETFROM:-0700
TZOFFSETTO:-0800
TZNAME:PST
DTSTART:20241103T090000
END:STANDARD
BEGIN:DAYLIGHT
TZOFFSETFROM:-0800
TZOFFSETTO:-0700
TZNAME:PDT
DTSTART:20250309T100000
END:DAYLIGHT
BEGIN:STANDARD
TZOFFSETFROM:-0700
TZOFFSETTO:-0800
TZNAME:PST
DTSTART:20251102T090000
END:STANDARD
BEGIN:DAYLIGHT
TZOFFSETFROM:-0800
TZOFFSETTO:-0700
TZNAME:PDT
DTSTART:20260308T100000
END:DAYLIGHT
BEGIN:STANDARD
TZOFFSETFROM:-0700
TZOFFSETTO:-0800
TZNAME:PST
DTSTART:20261101T090000
END:STANDARD
BEGIN:DAYLIGHT
TZOFFSETFROM:-0800
TZOFFSETTO:-0700
TZNAME:PDT
DTSTART:20270314T100000
END:DAYLIGHT
BEGIN:STANDARD
TZOFFSETFROM:-0700
TZOFFSETTO:-0800
TZNAME:PST
DTSTART:20271107T090000
END:STANDARD
END:VTIMEZONE
BEGIN:VEVENT
DTSTART;TZID=America/Los_Angeles:20260415T173000
DTEND;TZID=America/Los_Angeles:20260415T183000
DTSTAMP:20260422T100802
CREATED:20251209T053446Z
LAST-MODIFIED:20260220T215105Z
UID:10000660-1776274200-1776277800@www.homeownership-wa.org
SUMMARY:Sesión Informativa Sobre la Propiedad de Vivienda
DESCRIPTION:Acompáñenos en una sesión informativa donde exploraremos el proceso de compra de vivienda\, los recursos disponibles y los sistemas de apoyo para ayudarle en su proceso. Conozca los programas de asistencia para el pago inicial\, los diferentes modelos de compra de vivienda y los pasos clave para lograrlo. Así sea su primera compra o busque orientación\, esta sesión le brindará información valiosa para ayudarle a navegar el camino hacia la propiedad de vivienda con confianza. \nRegístrese Hoy
URL:https://www.homeownership-wa.org/ne/event/sesion-informativa-sobre-la-propiedad-de-vivienda-2/2026-04-15/
LOCATION:https://www.homeownership-wa.org/ne/event/sesion-informativa-sobre-la-propiedad-de-vivienda-2/2026-04-15/
CATEGORIES:Spanish
ATTACH;FMTTYPE=image/jpeg:https://www.homeownership-wa.org/wp-content/uploads/2025/03/homebuyer_event_img_espanol.jpg
ORGANIZER;CN="WHRC":MAILTO:communications@homeownership-wa.org
END:VEVENT
BEGIN:VEVENT
DTSTART;TZID=America/Los_Angeles:20260328T100000
DTEND;TZID=America/Los_Angeles:20260328T153000
DTSTAMP:20260422T100802
CREATED:20260320T192717Z
LAST-MODIFIED:20260320T200934Z
UID:10000679-1774692000-1774711800@www.homeownership-wa.org
SUMMARY:Seminario gratuito para compradores de vivienda | Free First-Time Homebuyer Seminar (Spanish)
DESCRIPTION:Detalles del seminario \nFecha: Sábado\, 28 de marzo de 2026\nHorario: 10:00 AM – 3:30 PM\nUbicación: El Centro de la Raza\n2524 16th Avenue South\nSeattle\, WA 98144 \nDurante este seminario los participantes aprenderán sobre: \n• Cómo obtener una preaprobación hipotecaria\n• Cómo prepararse financieramente para comprar casa\n• Cómo encontrar un prestamista y un agente inmobiliario\n• Qué considerar al buscar su primera vivienda\n• La importancia de la inspección de vivienda\n• Cómo planificar a largo plazo como propietario \nEl seminario es gratuito y se ofrecerá en español. Invitamos a todas las personas interesadas en comprar casa ahora o en el futuro a participar. \nPara registrarse o recibir más información\, pueden comunicarse con: \nJanet Savalza\nEl Centro de la Raza – Business Opportunity Center\nEmail: jtgarcias@elcentrodelaraza.org\nTeléfono: 206-671-8860 \n\nPor favor\, use este enlace para registrarse en el Seminario para Compradores de Casa: First Homebuyer Class Registration / Registración de clase para primeros compradores de casa \n\n— \nSeminar Details \nDate: Saturday\, March 28\, 2026\nTime: 10:00 AM – 3:30 PM\nLocation: El Centro de la Raza\n2524 16th Avenue South\nSeattle\, WA 98144 \nDuring this seminar participants will learn about: \n• How to obtain a mortgage pre-approval\n• How to prepare financially to purchase a home\n• How to find a lender and a real estate agent\n• What to consider when searching for your first home\n• The importance of home inspections\n• How to plan for the future as a homeowner \nThe seminar is free and will be presented in Spanish. We encourage anyone interested in purchasing a home now or in the future to attend. Participants do receive a 2-year certificate and allows them to access commission based programs. \n\nPlease use this link to register for the Homebuyer Seminar: First Homebuyer Class Registration / Registración de clase para primeros compradores de casa \n\n\n  \n\n\n 
URL:https://www.homeownership-wa.org/ne/event/2165/
LOCATION:El Centro de la Raza\, 2524 16th Ave. South\, Seattle\, WA\, 98144
CATEGORIES:Free or low-cost to attend,Homebuyer,In-Person,Nonprofit Partner Event,Open to the public,Spanish
END:VEVENT
BEGIN:VEVENT
DTSTART;TZID=America/Los_Angeles:20251108T100000
DTEND;TZID=America/Los_Angeles:20251108T160000
DTSTAMP:20260422T100802
CREATED:20251017T012801Z
LAST-MODIFIED:20251017T013249Z
UID:10000612-1762596000-1762617600@www.homeownership-wa.org
SUMMARY:Thurston County Homebuying Expo
DESCRIPTION:Come learn about resources to make your dream come true. There will be workshops and resource tables. Come join us and our community partners!
URL:https://www.homeownership-wa.org/ne/event/thurston-county-homebuying-expo/
LOCATION:Lacey Community Center\, 6729 Pacific Ave SE\, Lacey\, 98503\, United States
CATEGORIES:English,Homebuyer,In-Person,Spanish
END:VEVENT
END:VCALENDAR